BEGIN:VCALENDAR
VERSION:2.0
PRODID:-//Buttonwillow Raceway Park - ECPv6.15.20//NONSGML v1.0//EN
CALSCALE:GREGORIAN
METHOD:PUBLISH
X-WR-CALNAME:Buttonwillow Raceway Park
X-ORIGINAL-URL:https://buttonwillowraceway.com
X-WR-CALDESC:Events for Buttonwillow Raceway Park
REFRESH-INTERVAL;VALUE=DURATION:PT1H
X-Robots-Tag:noindex
X-PUBLISHED-TTL:PT1H
BEGIN:VTIMEZONE
TZID:UTC
BEGIN:STANDARD
TZOFFSETFROM:+0000
TZOFFSETTO:+0000
TZNAME:UTC
DTSTART:20250101T000000
END:STANDARD
END:VTIMEZONE
BEGIN:VEVENT
DTSTART;TZID=UTC:20261206T080000
DTEND;TZID=UTC:20261206T170000
DTSTAMP:20260419T155435
CREATED:20260330T185002Z
LAST-MODIFIED:20260330T185002Z
UID:4545-1796544000-1796576400@buttonwillowraceway.com
SUMMARY:Tamale Track Days
DESCRIPTION:
URL:https://buttonwillowraceway.com/event/tamale-track-days-4/
LOCATION:Buttonwillow Raceway Park – Classic\, 24551 Lerdo Highway\, Buttonwillow\, CA\, 93206\, United States
CATEGORIES:Classic
ATTACH;FMTTYPE=image/jpeg:https://buttonwillowraceway.com/wp-content/uploads/2025/02/Jun-09-2024-Nasa-Sun-eddd4b6f20-Race-Group-B-and-C-Qualifying-Sweeper-BW3_0145_Jun0924_1030AM_CaliPhoto-1-scaled.jpg
END:VEVENT
END:VCALENDAR