BEGIN:VCALENDAR
VERSION:2.0
PRODID:-//Buttonwillow Raceway Park - ECPv6.15.20//NONSGML v1.0//EN
CALSCALE:GREGORIAN
METHOD:PUBLISH
X-WR-CALNAME:Buttonwillow Raceway Park
X-ORIGINAL-URL:https://buttonwillowraceway.com
X-WR-CALDESC:Events for Buttonwillow Raceway Park
REFRESH-INTERVAL;VALUE=DURATION:PT1H
X-Robots-Tag:noindex
X-PUBLISHED-TTL:PT1H
BEGIN:VTIMEZONE
TZID:UTC
BEGIN:STANDARD
TZOFFSETFROM:+0000
TZOFFSETTO:+0000
TZNAME:UTC
DTSTART:20250101T000000
END:STANDARD
END:VTIMEZONE
BEGIN:VEVENT
DTSTART;TZID=UTC:20260501T080000
DTEND;TZID=UTC:20260501T170000
DTSTAMP:20260422T161725
CREATED:20251211T163242Z
LAST-MODIFIED:20260108T180202Z
UID:4077-1777622400-1777654800@buttonwillowraceway.com
SUMMARY:PCA/CCR
DESCRIPTION:
URL:https://buttonwillowraceway.com/event/pca-ccr-3/
LOCATION:Buttonwillow Raceway Park – Classic\, 24551 Lerdo Highway\, Buttonwillow\, CA\, 93206\, United States
CATEGORIES:Classic
ATTACH;FMTTYPE=image/jpeg:https://buttonwillowraceway.com/wp-content/uploads/2025/02/May-14-2022-PCA-Golden-Gate-Sat-8ae5da5886-Blue-and-Green-Session-2-Cotton-Corners-BW3_4236_May1422_1143AM_CaliPhoto-copy-scaled.jpg
END:VEVENT
END:VCALENDAR