BEGIN:VCALENDAR
VERSION:2.0
PRODID:-//Buttonwillow Raceway Park - ECPv6.15.20//NONSGML v1.0//EN
CALSCALE:GREGORIAN
METHOD:PUBLISH
X-WR-CALNAME:Buttonwillow Raceway Park
X-ORIGINAL-URL:https://buttonwillowraceway.com
X-WR-CALDESC:Events for Buttonwillow Raceway Park
REFRESH-INTERVAL;VALUE=DURATION:PT1H
X-Robots-Tag:noindex
X-PUBLISHED-TTL:PT1H
BEGIN:VTIMEZONE
TZID:UTC
BEGIN:STANDARD
TZOFFSETFROM:+0000
TZOFFSETTO:+0000
TZNAME:UTC
DTSTART:20250101T000000
END:STANDARD
END:VTIMEZONE
BEGIN:VEVENT
DTSTART;TZID=UTC:20260822T080000
DTEND;TZID=UTC:20260822T170000
DTSTAMP:20260422T104015
CREATED:20260310T221724Z
LAST-MODIFIED:20260318T183550Z
UID:4408-1787385600-1787418000@buttonwillowraceway.com
SUMMARY:Open Test (Dual tracks)
DESCRIPTION:
URL:https://buttonwillowraceway.com/event/open-test-dual-tracks/
LOCATION:Buttonwillow Raceway Park – Circuit\, 24551 Lerdo Highway\, Buttonwillow\, 93206\, United States
CATEGORIES:Circuit
ATTACH;FMTTYPE=image/jpeg:https://buttonwillowraceway.com/wp-content/uploads/2025/02/Jun-02-2024-CalClub-SCCA-Sun-05fc656a50-Group-2-Qualifying-BW3_0147_Jun0224_835AM_CaliPhoto-scaled.jpg
END:VEVENT
END:VCALENDAR