BEGIN:VCALENDAR
VERSION:2.0
PRODID:-//Buttonwillow Raceway Park - ECPv6.15.20//NONSGML v1.0//EN
CALSCALE:GREGORIAN
METHOD:PUBLISH
X-WR-CALNAME:Buttonwillow Raceway Park
X-ORIGINAL-URL:https://buttonwillowraceway.com
X-WR-CALDESC:Events for Buttonwillow Raceway Park
REFRESH-INTERVAL;VALUE=DURATION:PT1H
X-Robots-Tag:noindex
X-PUBLISHED-TTL:PT1H
BEGIN:VTIMEZONE
TZID:UTC
BEGIN:STANDARD
TZOFFSETFROM:+0000
TZOFFSETTO:+0000
TZNAME:UTC
DTSTART:20250101T000000
END:STANDARD
END:VTIMEZONE
BEGIN:VEVENT
DTSTART;TZID=UTC:20260822T080000
DTEND;TZID=UTC:20260822T170000
DTSTAMP:20260419T153934
CREATED:20260310T222618Z
LAST-MODIFIED:20260318T183647Z
UID:4410-1787385600-1787418000@buttonwillowraceway.com
SUMMARY:Open Test  13CW (Dual Tracks)
DESCRIPTION:
URL:https://buttonwillowraceway.com/event/open-test-13cw-dual-tracks/
LOCATION:Buttonwillow Raceway Park – Classic\, 24551 Lerdo Highway\, Buttonwillow\, CA\, 93206\, United States
CATEGORIES:Classic
ATTACH;FMTTYPE=image/avif:https://buttonwillowraceway.com/wp-content/uploads/2025/12/5.png.avif
END:VEVENT
END:VCALENDAR