BEGIN:VCALENDAR
VERSION:2.0
PRODID:-//Buttonwillow Raceway Park - ECPv6.15.20//NONSGML v1.0//EN
CALSCALE:GREGORIAN
METHOD:PUBLISH
X-WR-CALNAME:Buttonwillow Raceway Park
X-ORIGINAL-URL:https://buttonwillowraceway.com
X-WR-CALDESC:Events for Buttonwillow Raceway Park
REFRESH-INTERVAL;VALUE=DURATION:PT1H
X-Robots-Tag:noindex
X-PUBLISHED-TTL:PT1H
BEGIN:VTIMEZONE
TZID:UTC
BEGIN:STANDARD
TZOFFSETFROM:+0000
TZOFFSETTO:+0000
TZNAME:UTC
DTSTART:20250101T000000
END:STANDARD
END:VTIMEZONE
BEGIN:VEVENT
DTSTART;TZID=UTC:20260509T080000
DTEND;TZID=UTC:20260509T170000
DTSTAMP:20260419T082640
CREATED:20260408T152356Z
LAST-MODIFIED:20260408T153617Z
UID:4548-1778313600-1778346000@buttonwillowraceway.com
SUMMARY:NorCal Karters
DESCRIPTION:
URL:https://buttonwillowraceway.com/event/norcal-karters/
LOCATION:Buttonwillow Raceway Park – Circuit\, 24551 Lerdo Highway\, Buttonwillow\, 93206\, United States
CATEGORIES:Circuit
END:VEVENT
END:VCALENDAR