BEGIN:VCALENDAR
VERSION:2.0
PRODID:-//Buttonwillow Raceway Park - ECPv6.15.20//NONSGML v1.0//EN
CALSCALE:GREGORIAN
METHOD:PUBLISH
X-WR-CALNAME:Buttonwillow Raceway Park
X-ORIGINAL-URL:https://buttonwillowraceway.com
X-WR-CALDESC:Events for Buttonwillow Raceway Park
REFRESH-INTERVAL;VALUE=DURATION:PT1H
X-Robots-Tag:noindex
X-PUBLISHED-TTL:PT1H
BEGIN:VTIMEZONE
TZID:UTC
BEGIN:STANDARD
TZOFFSETFROM:+0000
TZOFFSETTO:+0000
TZNAME:UTC
DTSTART:20250101T000000
END:STANDARD
END:VTIMEZONE
BEGIN:VEVENT
DTSTART;VALUE=DATE:20260523
DTEND;VALUE=DATE:20260524
DTSTAMP:20260422T201903
CREATED:20251210T210724Z
LAST-MODIFIED:20260318T185944Z
UID:3965-1779494400-1779580799@buttonwillowraceway.com
SUMMARY:Extreme Speed
DESCRIPTION:
URL:https://buttonwillowraceway.com/event/extreme-speed/
LOCATION:Buttonwillow Raceway Park – Circuit\, 24551 Lerdo Highway\, Buttonwillow\, 93206\, United States
CATEGORIES:Circuit
ATTACH;FMTTYPE=image/jpeg:https://buttonwillowraceway.com/wp-content/uploads/2025/12/Porsche_Pits.jpeg
END:VEVENT
END:VCALENDAR