BEGIN:VCALENDAR
VERSION:2.0
PRODID:-//Buttonwillow Raceway Park - ECPv6.15.20//NONSGML v1.0//EN
CALSCALE:GREGORIAN
METHOD:PUBLISH
X-WR-CALNAME:Buttonwillow Raceway Park
X-ORIGINAL-URL:https://buttonwillowraceway.com
X-WR-CALDESC:Events for Buttonwillow Raceway Park
REFRESH-INTERVAL;VALUE=DURATION:PT1H
X-Robots-Tag:noindex
X-PUBLISHED-TTL:PT1H
BEGIN:VTIMEZONE
TZID:UTC
BEGIN:STANDARD
TZOFFSETFROM:+0000
TZOFFSETTO:+0000
TZNAME:UTC
DTSTART:20250101T000000
END:STANDARD
END:VTIMEZONE
BEGIN:VEVENT
DTSTART;TZID=UTC:20260405T080000
DTEND;TZID=UTC:20260405T170000
DTSTAMP:20260419T155333
CREATED:20260317T151554Z
LAST-MODIFIED:20260317T161732Z
UID:4453-1775376000-1775408400@buttonwillowraceway.com
SUMMARY:Extreme Speed
DESCRIPTION:
URL:https://buttonwillowraceway.com/event/extreme-speed-4/
LOCATION:Buttonwillow Raceway Park – Classic\, 24551 Lerdo Highway\, Buttonwillow\, CA\, 93206\, United States
CATEGORIES:Classic
ATTACH;FMTTYPE=image/avif:https://buttonwillowraceway.com/wp-content/uploads/2025/12/5.png.avif
END:VEVENT
END:VCALENDAR