BEGIN:VCALENDAR
VERSION:2.0
PRODID:-//Buttonwillow Raceway Park - ECPv6.15.20//NONSGML v1.0//EN
CALSCALE:GREGORIAN
METHOD:PUBLISH
X-WR-CALNAME:Buttonwillow Raceway Park
X-ORIGINAL-URL:https://buttonwillowraceway.com
X-WR-CALDESC:Events for Buttonwillow Raceway Park
REFRESH-INTERVAL;VALUE=DURATION:PT1H
X-Robots-Tag:noindex
X-PUBLISHED-TTL:PT1H
BEGIN:VTIMEZONE
TZID:UTC
BEGIN:STANDARD
TZOFFSETFROM:+0000
TZOFFSETTO:+0000
TZNAME:UTC
DTSTART:20240101T000000
END:STANDARD
END:VTIMEZONE
BEGIN:VEVENT
DTSTART;VALUE=DATE:20251219
DTEND;VALUE=DATE:20251220
DTSTAMP:20260420T162756
CREATED:20250218T153331Z
LAST-MODIFIED:20250219T173954Z
UID:3538-1766102400-1766188799@buttonwillowraceway.com
SUMMARY:Dog House Garage
DESCRIPTION:
URL:https://buttonwillowraceway.com/event/dog-house-garage-3/
LOCATION:Buttonwillow Raceway Park – Circuit\, 24551 Lerdo Highway\, Buttonwillow\, 93206\, United States
CATEGORIES:Circuit
ATTACH;FMTTYPE=image/webp:https://buttonwillowraceway.com/wp-content/uploads/2025/02/EM1_EK4-3_2500x.jpg-1.webp
END:VEVENT
END:VCALENDAR