BEGIN:VCALENDAR
VERSION:2.0
PRODID:-//Buttonwillow Raceway Park - ECPv6.15.20//NONSGML v1.0//EN
CALSCALE:GREGORIAN
METHOD:PUBLISH
X-WR-CALNAME:Buttonwillow Raceway Park
X-ORIGINAL-URL:https://buttonwillowraceway.com
X-WR-CALDESC:Events for Buttonwillow Raceway Park
REFRESH-INTERVAL;VALUE=DURATION:PT1H
X-Robots-Tag:noindex
X-PUBLISHED-TTL:PT1H
BEGIN:VTIMEZONE
TZID:UTC
BEGIN:STANDARD
TZOFFSETFROM:+0000
TZOFFSETTO:+0000
TZNAME:UTC
DTSTART:20250101T000000
END:STANDARD
END:VTIMEZONE
BEGIN:VEVENT
DTSTART;TZID=UTC:20260426T080000
DTEND;TZID=UTC:20260426T080000
DTSTAMP:20260422T123733
CREATED:20260227T193807Z
LAST-MODIFIED:20260227T194007Z
UID:4376-1777190400-1777190400@buttonwillowraceway.com
SUMMARY:Canyon Run Sundays
DESCRIPTION:
URL:https://buttonwillowraceway.com/event/canyon-run-sundays/
LOCATION:Buttonwillow Raceway Park – Classic\, 24551 Lerdo Highway\, Buttonwillow\, CA\, 93206\, United States
CATEGORIES:Classic
ATTACH;FMTTYPE=image/jpeg:https://buttonwillowraceway.com/wp-content/uploads/2025/02/Jun-02-2024-CalClub-SCCA-Sun-05fc656a50-Group-2-Qualifying-BW3_0147_Jun0224_835AM_CaliPhoto-scaled.jpg
END:VEVENT
END:VCALENDAR