BEGIN:VCALENDAR
VERSION:2.0
PRODID:-//Buttonwillow Raceway Park - ECPv6.15.20//NONSGML v1.0//EN
CALSCALE:GREGORIAN
METHOD:PUBLISH
X-WR-CALNAME:Buttonwillow Raceway Park
X-ORIGINAL-URL:https://buttonwillowraceway.com
X-WR-CALDESC:Events for Buttonwillow Raceway Park
REFRESH-INTERVAL;VALUE=DURATION:PT1H
X-Robots-Tag:noindex
X-PUBLISHED-TTL:PT1H
BEGIN:VTIMEZONE
TZID:UTC
BEGIN:STANDARD
TZOFFSETFROM:+0000
TZOFFSETTO:+0000
TZNAME:UTC
DTSTART:20250101T000000
END:STANDARD
END:VTIMEZONE
BEGIN:VEVENT
DTSTART;TZID=UTC:20260502T080000
DTEND;TZID=UTC:20260503T170000
DTSTAMP:20260422T162946
CREATED:20251210T210243Z
LAST-MODIFIED:20260108T200516Z
UID:3961-1777708800-1777827600@buttonwillowraceway.com
SUMMARY:Cal Club
DESCRIPTION:
URL:https://buttonwillowraceway.com/event/cal-club-3/
LOCATION:Buttonwillow Raceway Park – Circuit\, 24551 Lerdo Highway\, Buttonwillow\, 93206\, United States
CATEGORIES:Circuit
ATTACH;FMTTYPE=image/jpeg:https://buttonwillowraceway.com/wp-content/uploads/2024/12/Mar-16-2024-CalClub-SCCA-Sat-de271006c6-Group-1-Race-BW3_0149_Mar1624_1149AM_CaliPhoto.jpg
END:VEVENT
END:VCALENDAR